BEGIN:VCALENDAR
VERSION:2.0
PRODID:-//wp-events-plugin.com//7.2.3.1//EN
TZID:Europe/Paris
X-WR-TIMEZONE:Europe/Paris
BEGIN:VEVENT
UID:23@monardoisedcaux.fr
DTSTART;TZID=Europe/Paris:20260401T100000
DTEND;TZID=Europe/Paris:20261031T190000
DTSTAMP:20260407T145349Z
URL:https://monardoisedcaux.fr/evenement/boutique-estivale-aux-trois-damoi
 selles/
SUMMARY:Boutique estivale AUX TROIS DAMOISELLES
DESCRIPTION:L’association LES ARMOIRES NORMANDES fait son retour pour les
  beaux jours.\n\nDurant tout l’été retrouvez moi aux cotés de 17 cré
 ateurs\, dans ce magnifique endroit situé en plein coeur d’un des plus 
 beaux villages de France\, dans notre belle Normandie.\n\nIdéalement situ
 ée dans la propriété « Les trois Damoiselles »\, elle possède deux
  entrées\, une coté centre-ville\, et une autre coté Office de Tourisme
  et un grand parking pour accueillir les voitures et de nombreux bus.\nL
 ’occasion idéale d’une balade en famille pour découvrir notre savoir
  faire Normand.\n\nVous pourrez découvrir:\nAMBRE CREATIONS  https://www
 .instagram.com/ambrecreations_1502/\nCHRISTIAN LEPESCHEUX  https://www.i
 nstagram.com/christianlepescheux/\nCLEVEA   https://www.instagram.com/cl
 evea.france/\nCREABIFF  https://www.instagram.com/creabiffmadein/\nDE FI
 LS EN BETON  https://www.instagram.com/defilsenbeton/\nEMILIE PIQUE ET C
 OUD  https://emilie-pique-et-coud.sumupstore.com/\nFLORE NORMAN  https
 ://florenorman.com\nKOSELIG  https://www.instagram.com/sc.koselig/\nMADE 
 BY BM  https://www.instagram.com/made_by_bm/\nMARGOTTE TOURNICOTTE  htt
 ps://www.margottetournicote.fr\nMON ARDOISE D’CAUX\nL'ATELIER DE MARIE 
 https://www.instagram.com/latelierdemarie14/\nLE COQUELICOT NOIR  https:/
 /www.instagram.com/lecoquelicotnoir61/\nLE JARDIN SECRET DE PAN https://ww
 w.lejardinsecretdepan.fr/\nLES PETITS RIEN DE VAL  https://www.instagram.
 com/valerie.yvon1/\nLES SAVONS D’ACHILLE  https://www.lessavonsdachille
 .fr\nLES TRESORS DE SOPHIE  https://www.instagram.com/lestresorsdesophie1
 4/\nL’HEURE BLEUE https://www.instagram.com/lheurebleuepontaudemer/\n&n
 bsp\;\n\n\nAu plaisir de vous y retrouver.
ATTACH;FMTTYPE=image/jpeg:https://i0.wp.com/monardoisedcaux.fr/wp-content/
 uploads/2026/04/Publi-Insta-45-Beuvron-en-Auge-2026.jpg?fit=1080%2C1350&ss
 l=1
CATEGORIES:Boutique éphémère
LOCATION:Aux Trois Damoiselles à Beuvron en Auge\, 20\, place Michel Vermu
 ghen\, Beuvron en Auge\, Calvados\, 14430\, Normandie\, France
X-APPLE-STRUCTURED-LOCATION;VALUE=URI;X-ADDRESS=20\, place Michel Vermughen
 \, Beuvron en Auge\, Calvados\, 14430\, Normandie\, France;X-APPLE-RADIUS=
 100;X-TITLE=Aux Trois Damoiselles à Beuvron en Auge:geo:0,0
END:VEVENT
BEGIN:VTIMEZONE
TZID:Europe/Paris
X-LIC-LOCATION:Europe/Paris
BEGIN:DAYLIGHT
DTSTART:20260329T030000
TZOFFSETFROM:+0100
TZOFFSETTO:+0200
TZNAME:CEST
END:DAYLIGHT
BEGIN:STANDARD
DTSTART:20261025T020000
TZOFFSETFROM:+0200
TZOFFSETTO:+0100
TZNAME:CET
END:STANDARD
END:VTIMEZONE
END:VCALENDAR