BEGIN:VCALENDAR
VERSION:2.0
PRODID:-//wp-events-plugin.com//7.2.3.1//EN
TZID:Europe/Paris
X-WR-TIMEZONE:Europe/Paris
BEGIN:VEVENT
UID:4@monardoisedcaux.fr
DTSTART;TZID=Europe/Paris:20250401T090000
DTEND;TZID=Europe/Paris:20251031T190000
DTSTAMP:20250526T221234Z
URL:https://monardoisedcaux.fr/evenement/les-armoires-normandes-aux-trois-
 damoiselles/
SUMMARY:LES ARMOIRES NORMANDES AUX TROIS DAMOISELLES
DESCRIPTION:L'association LES ARMOIRES NORMANDES fait son retour pour les b
 eaux jours.\n\nDurant tout l'été retrouvez moi aux cotés de 17 créateu
 rs\, dans ce magnifique endroit situé en plein coeur d'un des plus beaux 
 villages de France\, dans notre belle Normandie.\n\nIdéalement située da
 ns la propriété "Les trois Damoiselles"\, elle possède deux entrées\, 
 une coté centre-ville\, et une autre coté Office de Tourisme et un grand
  parking pour accueillir les voitures et de nombreux bus.\nL'occasion idé
 ale d'une balade en famille pour découvrir notre savoir faire Normand.\n\
 nVous pourrez découvrir:\nAMBRE CREATIONS  https://www.instagram.com/amb
 recreations_1502/\nCHRISTIAN LEPESCHEUX  https://www.instagram.com/christ
 ianlepescheux/\nCLEVEA   https://www.instagram.com/clevea.france/\nCREABI
 FF  https://www.instagram.com/creabiffmadein/\nDE FILS EN BETON  https:/
 /www.instagram.com/defilsenbeton/\nEMILIE PIQUE ET COUD  https://emilie-p
 ique-et-coud.sumupstore.com/\nFLORE NORMAN  https://florenorman.com\nJMBB
  https://www.jmbb.fr  https://www.instagram.com/jmbb_couettesbb/ \nMADE 
 BY BM  https://www.instagram.com/made_by_bm/\nMARGOTTE TOURNICOTTE  http
 s://www.margottetournicote.fr\nMON ARDOISE D'CAUX\nL'ATELIER DE CLAIRE  h
 ttps://www.instagram.com/latelierdeclaire14/\nLE COQUELICOT NOIR  https:/
 /www.instagram.com/lecoquelicotnoir61/\nLES PETITS RIEN DE VAL  https://w
 ww.instagram.com/valerie.yvon1/\nLES SAVONS D'ACHILLE  https://www.lessav
 onsdachille.fr\nLES TRESORS DE SOPHIE  https://www.instagram.com/lestreso
 rsdesophie14/\nL'HEURE BLEUE https://www.instagram.com/lheurebleuepontaud
 emer/\nRENO CREATION  https://www.instagram.com/reno.laserbois/\n\n\nAu p
 laisir de vous y retrouver.
ATTACH;FMTTYPE=image/jpeg:https://i0.wp.com/monardoisedcaux.fr/wp-content/
 uploads/2025/03/Publi-1.jpg?fit=1080%2C1080&ssl=1
CATEGORIES:Boutique éphémère
LOCATION:Aux Trois Damoiselles à Beuvron en Auge\, 20\, place Michel Vermu
 ghen\, Beuvron en Auge\, Calvados\, 14430\, Normandie\, France
X-APPLE-STRUCTURED-LOCATION;VALUE=URI;X-ADDRESS=20\, place Michel Vermughen
 \, Beuvron en Auge\, Calvados\, 14430\, Normandie\, France;X-APPLE-RADIUS=
 100;X-TITLE=Aux Trois Damoiselles à Beuvron en Auge:geo:0,0
END:VEVENT
BEGIN:VTIMEZONE
TZID:Europe/Paris
X-LIC-LOCATION:Europe/Paris
BEGIN:DAYLIGHT
DTSTART:20250330T030000
TZOFFSETFROM:+0100
TZOFFSETTO:+0200
TZNAME:CEST
END:DAYLIGHT
BEGIN:STANDARD
DTSTART:20251026T020000
TZOFFSETFROM:+0200
TZOFFSETTO:+0100
TZNAME:CET
END:STANDARD
END:VTIMEZONE
END:VCALENDAR